{"text_format":"1","workbook":"xlsx","n_sheets":5,"sheets":["pml_leagues","pml_matches","DRAFTS","LEAGUES","MATCHES"],"not_rendered":{"charts":0,"images":0,"macros":1,"external_links":0,"defined_names":2,"comments":0,"pivot_tables":0},"unopened":[],"bounds":{"document_bytes":16777216,"sheet_cells":100000,"rows_first":2000,"rows_last":500,"rows_between":2000,"halvings":0,"cell_chars":16384,"cell_head_chars":4096},"cells_cut":0,"cells_raw":0,"read":"whole","date_system":"1900"}

{"sheet":"pml_leagues","index":0,"n_rows":25,"n_cols":3,"rows_kept":25,"cut":false,"hidden":true,"merged":[]}
[]
[null,null,{"$f":"$A2&\"\"","v":""}]
[null,null,{"$f":"$A3&\"\"","v":""}]
[null,null,""]
[null,null,""]
[null,null,""]
[null,null,""]
[null,null,""]
[null,null,""]
[null,null,""]
[null,null,""]
[null,null,""]
[null,null,""]
[null,null,""]
[null,null,""]
[null,null,""]
[null,null,""]
[null,null,""]
[null,null,""]
[null,null,""]
[null,null,""]
[null,null,""]
[null,null,""]
[null,null,""]
[null,null,""]

{"sheet":"pml_matches","index":1,"n_rows":321,"n_cols":3,"rows_kept":321,"cut":false,"hidden":true,"merged":[]}
[null,null,{"$f":"IFERROR(RIGHT($A1,LEN($A1)-SEARCH(\"]\",$A1)-1),\"\")","v":""}]
[null,null,{"$f":"TRIM(IFERROR(RIGHT($A2,LEN($A2)-SEARCH(\"]\",$A2)-1),$A2&\"\"))","v":""}]
[null,null,{"$f":"TRIM(IFERROR(RIGHT($A3,LEN($A3)-SEARCH(\"]\",$A3)-1),$A3&\"\"))","v":""}]
[null,null,""]
[null,null,""]
[null,null,""]
[null,null,""]
[null,null,""]
[null,null,""]
[null,null,""]
[null,null,""]
[null,null,""]
[null,null,""]
[null,null,""]
[null,null,""]
[null,null,""]
[null,null,""]
[null,null,""]
[null,null,""]
[null,null,""]
[null,null,""]
[null,null,""]
[null,null,""]
[null,null,""]
[null,null,""]
[null,null,""]
[null,null,""]
[null,null,""]
[null,null,""]
[null,null,""]
[null,null,""]
[null,null,""]
[null,null,""]
[null,null,""]
[null,null,""]
[null,null,""]
[null,null,""]
[null,null,""]
[null,null,""]
[null,null,""]
[null,null,""]
[null,null,""]
[null,null,""]
[null,null,""]
[null,null,""]
[null,null,""]
[null,null,""]
[null,null,""]
[null,null,""]
[null,null,""]
[null,null,""]
[null,null,""]
[null,null,""]
[null,null,""]
[null,null,""]
[null,null,""]
[null,null,""]
[null,null,""]
[null,null,""]
[null,null,""]
[null,null,""]
[null,null,""]
[null,null,""]
[null,null,""]
[null,null,""]
[null,null,""]
[null,null,{"$f":"TRIM(IFERROR(RIGHT($A67,LEN($A67)-SEARCH(\"]\",$A67)-1),$A67&\"\"))","v":""}]
[null,null,""]
[null,null,""]
[null,null,""]
[null,null,""]
[null,null,""]
[null,null,""]
[null,null,""]
[null,null,""]
[null,null,""]
[null,null,""]
[null,null,""]
[null,null,""]
[null,null,""]
[null,null,""]
[null,null,""]
[null,null,""]
[null,null,""]
[null,null,""]
[null,null,""]
[null,null,""]
[null,null,""]
[null,null,""]
[null,null,""]
[null,null,""]
[null,null,""]
[null,null,""]
[null,null,""]
[null,null,""]
[null,null,""]
[null,null,""]
[null,null,""]
[null,null,""]
[null,null,""]
[null,null,""]
[null,null,""]
[null,null,""]
[null,null,""]
[null,null,""]
[null,null,""]
[null,null,""]
[null,null,""]
[null,null,""]
[null,null,""]
[null,null,""]
[null,null,""]
[null,null,""]
[null,null,""]
[null,null,""]
[null,null,""]
[null,null,""]
[null,null,""]
[null,null,""]
[null,null,""]
[null,null,""]
[null,null,""]
[null,null,""]
[null,null,""]
[null,null,""]
[null,null,""]
[null,null,""]
[null,null,""]
[null,null,""]
[null,null,""]
[null,null,{"$f":"TRIM(IFERROR(RIGHT($A131,LEN($A131)-SEARCH(\"]\",$A131)-1),$A131&\"\"))","v":""}]
[null,null,""]
[null,null,""]
[null,null,""]
[null,null,""]
[null,null,""]
[null,null,""]
[null,null,""]
[null,null,""]
[null,null,""]
[null,null,""]
[null,null,""]
[null,null,""]
[null,null,""]
[null,null,""]
[null,null,""]
[null,null,""]
[null,null,""]
[null,null,""]
[null,null,""]
[null,null,""]
[null,null,""]
[null,null,""]
[null,null,""]
[null,null,""]
[null,null,""]
[null,null,""]
[null,null,""]
[null,null,""]
[null,null,""]
[null,null,""]
[null,null,""]
[null,null,""]
[null,null,""]
[null,null,""]
[null,null,""]
[null,null,""]
[null,null,""]
[null,null,""]
[null,null,""]
[null,null,""]
[null,null,""]
[null,null,""]
[null,null,""]
[null,null,""]
[null,null,""]
[null,null,""]
[null,null,""]
[null,null,""]
[null,null,""]
[null,null,""]
[null,null,""]
[null,null,""]
[null,null,""]
[null,null,""]
[null,null,""]
[null,null,""]
[null,null,""]
[null,null,""]
[null,null,""]
[null,null,""]
[null,null,""]
[null,null,""]
[null,null,""]
[null,null,{"$f":"TRIM(IFERROR(RIGHT($A195,LEN($A195)-SEARCH(\"]\",$A195)-1),$A195&\"\"))","v":""}]
[null,null,""]
[null,null,""]
[null,null,""]
[null,null,""]
[null,null,""]
[null,null,""]
[null,null,""]
[null,null,""]
[null,null,""]
[null,null,""]
[null,null,""]
[null,null,""]
[null,null,""]
[null,null,""]
[null,null,""]
[null,null,""]
[null,null,""]
[null,null,""]
[null,null,""]
[null,null,""]
[null,null,""]
[null,null,""]
[null,null,""]
[null,null,""]
[null,null,""]
[null,null,""]
[null,null,""]
[null,null,""]
[null,null,""]
[null,null,""]
[null,null,""]
[null,null,""]
[null,null,""]
[null,null,""]
[null,null,""]
[null,null,""]
[null,null,""]
[null,null,""]
[null,null,""]
[null,null,""]
[null,null,""]
[null,null,""]
[null,null,""]
[null,null,""]
[null,null,""]
[null,null,""]
[null,null,""]
[null,null,""]
[null,null,""]
[null,null,""]
[null,null,""]
[null,null,""]
[null,null,""]
[null,null,""]
[null,null,""]
[null,null,""]
[null,null,""]
[null,null,""]
[null,null,""]
[null,null,""]
[null,null,""]
[null,null,""]
[null,null,""]
[null,null,{"$f":"TRIM(IFERROR(RIGHT($A259,LEN($A259)-SEARCH(\"]\",$A259)-1),$A259&\"\"))","v":""}]
[null,null,""]
[null,null,""]
[null,null,""]
[null,null,""]
[null,null,""]
[null,null,""]
[null,null,""]
[null,null,""]
[null,null,""]
[null,null,""]
[null,null,""]
[null,null,""]
[null,null,""]
[null,null,""]
[null,null,""]
[null,null,""]
[null,null,""]
[null,null,""]
[null,null,""]
[null,null,""]
[null,null,""]
[null,null,""]
[null,null,""]
[null,null,""]
[null,null,""]
[null,null,""]
[null,null,""]
[null,null,""]
[null,null,""]
[null,null,""]
[null,null,""]
[null,null,""]
[null,null,""]
[null,null,""]
[null,null,""]
[null,null,""]
[null,null,""]
[null,null,""]
[null,null,""]
[null,null,""]
[null,null,""]
[null,null,""]
[null,null,""]
[null,null,""]
[null,null,""]
[null,null,""]
[null,null,""]
[null,null,""]
[null,null,""]
[null,null,""]
[null,null,""]
[null,null,""]
[null,null,""]
[null,null,""]
[null,null,""]
[null,null,""]
[null,null,""]
[null,null,""]
[null,null,""]
[null,null,""]
[null,null,""]
[null,null,""]

{"sheet":"DRAFTS","index":2,"n_rows":352,"n_cols":3,"rows_kept":352,"cut":false,"hidden":false,"merged":[]}
[]
[null,"НОМИНИРАНИ ПОТОЦИ"]
[]
[1,{"$f":"INDEX(pml_leagues!$C$2:$C$25,$A4)","v":""}]
[2,{"$f":"INDEX(pml_leagues!$C$2:$C$25,$A5)","v":""}]
[3,{"$f":"INDEX(pml_leagues!$C$2:$C$25,$A6)","v":""}]
[4,{"$f":"INDEX(pml_leagues!$C$2:$C$25,$A7)","v":""}]
[5,{"$f":"INDEX(pml_leagues!$C$2:$C$25,$A8)","v":""}]
[6,{"$f":"INDEX(pml_leagues!$C$2:$C$25,$A9)","v":""}]
[7,{"$f":"INDEX(pml_leagues!$C$2:$C$25,$A10)","v":""}]
[8,{"$f":"INDEX(pml_leagues!$C$2:$C$25,$A11)","v":""}]
[9,{"$f":"INDEX(pml_leagues!$C$2:$C$25,$A12)","v":""}]
[10,{"$f":"INDEX(pml_leagues!$C$2:$C$25,$A13)","v":""}]
[11,{"$f":"INDEX(pml_leagues!$C$2:$C$25,$A14)","v":""}]
[12,{"$f":"INDEX(pml_leagues!$C$2:$C$25,$A15)","v":""}]
[13,{"$f":"INDEX(pml_leagues!$C$2:$C$25,$A16)","v":""}]
[14,{"$f":"INDEX(pml_leagues!$C$2:$C$25,$A17)","v":""}]
[15,{"$f":"INDEX(pml_leagues!$C$2:$C$25,$A18)","v":""}]
[16,{"$f":"INDEX(pml_leagues!$C$2:$C$25,$A19)","v":""}]
[17,{"$f":"INDEX(pml_leagues!$C$2:$C$25,$A20)","v":""}]
[18,{"$f":"INDEX(pml_leagues!$C$2:$C$25,$A21)","v":""}]
[19,{"$f":"INDEX(pml_leagues!$C$2:$C$25,$A22)","v":""}]
[20,{"$f":"INDEX(pml_leagues!$C$2:$C$25,$A23)","v":""}]
[21,{"$f":"INDEX(pml_leagues!$C$2:$C$25,$A24)","v":""}]
[22,{"$f":"INDEX(pml_leagues!$C$2:$C$25,$A25)","v":""}]
[23,{"$f":"INDEX(pml_leagues!$C$2:$C$25,$A26)","v":""}]
[24,{"$f":"INDEX(pml_leagues!$C$2:$C$25,$A27)","v":""}]
[]
[]
[]
[null,"НОМИНИРАНИ МАЧОВЕ"]
[]
[1,{"$f":"INDEX(pml_matches!$C$2:$C$321,$A33)","v":""},{"$f":"IFERROR(VALUE(LEFT($B33,8)),\"\")","v":""}]
[2,{"$f":"INDEX(pml_matches!$C$2:$C$321,$A34)","v":""},{"$f":"IFERROR(VALUE(LEFT($B34,8)),\"\")","v":""}]
[3,{"$f":"INDEX(pml_matches!$C$2:$C$321,$A35)","v":""},""]
[4,{"$f":"INDEX(pml_matches!$C$2:$C$321,$A36)","v":""},""]
[5,{"$f":"INDEX(pml_matches!$C$2:$C$321,$A37)","v":""},""]
[6,{"$f":"INDEX(pml_matches!$C$2:$C$321,$A38)","v":""},""]
[7,{"$f":"INDEX(pml_matches!$C$2:$C$321,$A39)","v":""},""]
[8,{"$f":"INDEX(pml_matches!$C$2:$C$321,$A40)","v":""},""]
[9,{"$f":"INDEX(pml_matches!$C$2:$C$321,$A41)","v":""},""]
[10,{"$f":"INDEX(pml_matches!$C$2:$C$321,$A42)","v":""},""]
[11,{"$f":"INDEX(pml_matches!$C$2:$C$321,$A43)","v":""},""]
[12,{"$f":"INDEX(pml_matches!$C$2:$C$321,$A44)","v":""},""]
[13,{"$f":"INDEX(pml_matches!$C$2:$C$321,$A45)","v":""},""]
[14,{"$f":"INDEX(pml_matches!$C$2:$C$321,$A46)","v":""},""]
[15,{"$f":"INDEX(pml_matches!$C$2:$C$321,$A47)","v":""},""]
[16,{"$f":"INDEX(pml_matches!$C$2:$C$321,$A48)","v":""},""]
[17,{"$f":"INDEX(pml_matches!$C$2:$C$321,$A49)","v":""},""]
[18,{"$f":"INDEX(pml_matches!$C$2:$C$321,$A50)","v":""},""]
[19,{"$f":"INDEX(pml_matches!$C$2:$C$321,$A51)","v":""},""]
[20,{"$f":"INDEX(pml_matches!$C$2:$C$321,$A52)","v":""},""]
[21,{"$f":"INDEX(pml_matches!$C$2:$C$321,$A53)","v":""},""]
[22,{"$f":"INDEX(pml_matches!$C$2:$C$321,$A54)","v":""},""]
[23,{"$f":"INDEX(pml_matches!$C$2:$C$321,$A55)","v":""},""]
[24,{"$f":"INDEX(pml_matches!$C$2:$C$321,$A56)","v":""},""]
[25,{"$f":"INDEX(pml_matches!$C$2:$C$321,$A57)","v":""},""]
[26,{"$f":"INDEX(pml_matches!$C$2:$C$321,$A58)","v":""},""]
[27,{"$f":"INDEX(pml_matches!$C$2:$C$321,$A59)","v":""},""]
[28,{"$f":"INDEX(pml_matches!$C$2:$C$321,$A60)","v":""},""]
[29,{"$f":"INDEX(pml_matches!$C$2:$C$321,$A61)","v":""},""]
[30,{"$f":"INDEX(pml_matches!$C$2:$C$321,$A62)","v":""},""]
[31,{"$f":"INDEX(pml_matches!$C$2:$C$321,$A63)","v":""},""]
[32,{"$f":"INDEX(pml_matches!$C$2:$C$321,$A64)","v":""},""]
[33,{"$f":"INDEX(pml_matches!$C$2:$C$321,$A65)","v":""},""]
[34,{"$f":"INDEX(pml_matches!$C$2:$C$321,$A66)","v":""},""]
[35,{"$f":"INDEX(pml_matches!$C$2:$C$321,$A67)","v":""},""]
[36,{"$f":"INDEX(pml_matches!$C$2:$C$321,$A68)","v":""},""]
[37,{"$f":"INDEX(pml_matches!$C$2:$C$321,$A69)","v":""},""]
[38,{"$f":"INDEX(pml_matches!$C$2:$C$321,$A70)","v":""},""]
[39,{"$f":"INDEX(pml_matches!$C$2:$C$321,$A71)","v":""},""]
[40,{"$f":"INDEX(pml_matches!$C$2:$C$321,$A72)","v":""},""]
[41,{"$f":"INDEX(pml_matches!$C$2:$C$321,$A73)","v":""},""]
[42,{"$f":"INDEX(pml_matches!$C$2:$C$321,$A74)","v":""},""]
[43,{"$f":"INDEX(pml_matches!$C$2:$C$321,$A75)","v":""},""]
[44,{"$f":"INDEX(pml_matches!$C$2:$C$321,$A76)","v":""},""]
[45,{"$f":"INDEX(pml_matches!$C$2:$C$321,$A77)","v":""},""]
[46,{"$f":"INDEX(pml_matches!$C$2:$C$321,$A78)","v":""},""]
[47,{"$f":"INDEX(pml_matches!$C$2:$C$321,$A79)","v":""},""]
[48,{"$f":"INDEX(pml_matches!$C$2:$C$321,$A80)","v":""},""]
[49,{"$f":"INDEX(pml_matches!$C$2:$C$321,$A81)","v":""},""]
[50,{"$f":"INDEX(pml_matches!$C$2:$C$321,$A82)","v":""},""]
[51,{"$f":"INDEX(pml_matches!$C$2:$C$321,$A83)","v":""},""]
[52,{"$f":"INDEX(pml_matches!$C$2:$C$321,$A84)","v":""},""]
[53,{"$f":"INDEX(pml_matches!$C$2:$C$321,$A85)","v":""},""]
[54,{"$f":"INDEX(pml_matches!$C$2:$C$321,$A86)","v":""},""]
[55,{"$f":"INDEX(pml_matches!$C$2:$C$321,$A87)","v":""},""]
[56,{"$f":"INDEX(pml_matches!$C$2:$C$321,$A88)","v":""},""]
[57,{"$f":"INDEX(pml_matches!$C$2:$C$321,$A89)","v":""},""]
[58,{"$f":"INDEX(pml_matches!$C$2:$C$321,$A90)","v":""},""]
[59,{"$f":"INDEX(pml_matches!$C$2:$C$321,$A91)","v":""},""]
[60,{"$f":"INDEX(pml_matches!$C$2:$C$321,$A92)","v":""},""]
[61,{"$f":"INDEX(pml_matches!$C$2:$C$321,$A93)","v":""},""]
[62,{"$f":"INDEX(pml_matches!$C$2:$C$321,$A94)","v":""},""]
[63,{"$f":"INDEX(pml_matches!$C$2:$C$321,$A95)","v":""},""]
[64,{"$f":"INDEX(pml_matches!$C$2:$C$321,$A96)","v":""},""]
[65,{"$f":"INDEX(pml_matches!$C$2:$C$321,$A97)","v":""},""]
[66,{"$f":"INDEX(pml_matches!$C$2:$C$321,$A98)","v":""},{"$f":"IFERROR(VALUE(LEFT($B98,8)),\"\")","v":""}]
[67,{"$f":"INDEX(pml_matches!$C$2:$C$321,$A99)","v":""},""]
[68,{"$f":"INDEX(pml_matches!$C$2:$C$321,$A100)","v":""},""]
[69,{"$f":"INDEX(pml_matches!$C$2:$C$321,$A101)","v":""},""]
[70,{"$f":"INDEX(pml_matches!$C$2:$C$321,$A102)","v":""},""]
[71,{"$f":"INDEX(pml_matches!$C$2:$C$321,$A103)","v":""},""]
[72,{"$f":"INDEX(pml_matches!$C$2:$C$321,$A104)","v":""},""]
[73,{"$f":"INDEX(pml_matches!$C$2:$C$321,$A105)","v":""},""]
[74,{"$f":"INDEX(pml_matches!$C$2:$C$321,$A106)","v":""},""]
[75,{"$f":"INDEX(pml_matches!$C$2:$C$321,$A107)","v":""},""]
[76,{"$f":"INDEX(pml_matches!$C$2:$C$321,$A108)","v":""},""]
[77,{"$f":"INDEX(pml_matches!$C$2:$C$321,$A109)","v":""},""]
[78,{"$f":"INDEX(pml_matches!$C$2:$C$321,$A110)","v":""},""]
[79,{"$f":"INDEX(pml_matches!$C$2:$C$321,$A111)","v":""},""]
[80,{"$f":"INDEX(pml_matches!$C$2:$C$321,$A112)","v":""},""]
[81,{"$f":"INDEX(pml_matches!$C$2:$C$321,$A113)","v":""},""]
[82,{"$f":"INDEX(pml_matches!$C$2:$C$321,$A114)","v":""},""]
[83,{"$f":"INDEX(pml_matches!$C$2:$C$321,$A115)","v":""},""]
[84,{"$f":"INDEX(pml_matches!$C$2:$C$321,$A116)","v":""},""]
[85,{"$f":"INDEX(pml_matches!$C$2:$C$321,$A117)","v":""},""]
[86,{"$f":"INDEX(pml_matches!$C$2:$C$321,$A118)","v":""},""]
[87,{"$f":"INDEX(pml_matches!$C$2:$C$321,$A119)","v":""},""]
[88,{"$f":"INDEX(pml_matches!$C$2:$C$321,$A120)","v":""},""]
[89,{"$f":"INDEX(pml_matches!$C$2:$C$321,$A121)","v":""},""]
[90,{"$f":"INDEX(pml_matches!$C$2:$C$321,$A122)","v":""},""]
[91,{"$f":"INDEX(pml_matches!$C$2:$C$321,$A123)","v":""},""]
[92,{"$f":"INDEX(pml_matches!$C$2:$C$321,$A124)","v":""},""]
[93,{"$f":"INDEX(pml_matches!$C$2:$C$321,$A125)","v":""},""]
[94,{"$f":"INDEX(pml_matches!$C$2:$C$321,$A126)","v":""},""]
[95,{"$f":"INDEX(pml_matches!$C$2:$C$321,$A127)","v":""},""]
[96,{"$f":"INDEX(pml_matches!$C$2:$C$321,$A128)","v":""},""]
[97,{"$f":"INDEX(pml_matches!$C$2:$C$321,$A129)","v":""},""]
[98,{"$f":"INDEX(pml_matches!$C$2:$C$321,$A130)","v":""},""]
[99,{"$f":"INDEX(pml_matches!$C$2:$C$321,$A131)","v":""},""]
[100,{"$f":"INDEX(pml_matches!$C$2:$C$321,$A132)","v":""},""]
[101,{"$f":"INDEX(pml_matches!$C$2:$C$321,$A133)","v":""},""]
[102,{"$f":"INDEX(pml_matches!$C$2:$C$321,$A134)","v":""},""]
[103,{"$f":"INDEX(pml_matches!$C$2:$C$321,$A135)","v":""},""]
[104,{"$f":"INDEX(pml_matches!$C$2:$C$321,$A136)","v":""},""]
[105,{"$f":"INDEX(pml_matches!$C$2:$C$321,$A137)","v":""},""]
[106,{"$f":"INDEX(pml_matches!$C$2:$C$321,$A138)","v":""},""]
[107,{"$f":"INDEX(pml_matches!$C$2:$C$321,$A139)","v":""},""]
[108,{"$f":"INDEX(pml_matches!$C$2:$C$321,$A140)","v":""},""]
[109,{"$f":"INDEX(pml_matches!$C$2:$C$321,$A141)","v":""},""]
[110,{"$f":"INDEX(pml_matches!$C$2:$C$321,$A142)","v":""},""]
[111,{"$f":"INDEX(pml_matches!$C$2:$C$321,$A143)","v":""},""]
[112,{"$f":"INDEX(pml_matches!$C$2:$C$321,$A144)","v":""},""]
[113,{"$f":"INDEX(pml_matches!$C$2:$C$321,$A145)","v":""},""]
[114,{"$f":"INDEX(pml_matches!$C$2:$C$321,$A146)","v":""},""]
[115,{"$f":"INDEX(pml_matches!$C$2:$C$321,$A147)","v":""},""]
[116,{"$f":"INDEX(pml_matches!$C$2:$C$321,$A148)","v":""},""]
[117,{"$f":"INDEX(pml_matches!$C$2:$C$321,$A149)","v":""},""]
[118,{"$f":"INDEX(pml_matches!$C$2:$C$321,$A150)","v":""},""]
[119,{"$f":"INDEX(pml_matches!$C$2:$C$321,$A151)","v":""},""]
[120,{"$f":"INDEX(pml_matches!$C$2:$C$321,$A152)","v":""},""]
[121,{"$f":"INDEX(pml_matches!$C$2:$C$321,$A153)","v":""},""]
[122,{"$f":"INDEX(pml_matches!$C$2:$C$321,$A154)","v":""},""]
[123,{"$f":"INDEX(pml_matches!$C$2:$C$321,$A155)","v":""},""]
[124,{"$f":"INDEX(pml_matches!$C$2:$C$321,$A156)","v":""},""]
[125,{"$f":"INDEX(pml_matches!$C$2:$C$321,$A157)","v":""},""]
[126,{"$f":"INDEX(pml_matches!$C$2:$C$321,$A158)","v":""},""]
[127,{"$f":"INDEX(pml_matches!$C$2:$C$321,$A159)","v":""},""]
[128,{"$f":"INDEX(pml_matches!$C$2:$C$321,$A160)","v":""},""]
[129,{"$f":"INDEX(pml_matches!$C$2:$C$321,$A161)","v":""},""]
[130,{"$f":"INDEX(pml_matches!$C$2:$C$321,$A162)","v":""},{"$f":"IFERROR(VALUE(LEFT($B162,8)),\"\")","v":""}]
[131,{"$f":"INDEX(pml_matches!$C$2:$C$321,$A163)","v":""},""]
[132,{"$f":"INDEX(pml_matches!$C$2:$C$321,$A164)","v":""},""]
[133,{"$f":"INDEX(pml_matches!$C$2:$C$321,$A165)","v":""},""]
[134,{"$f":"INDEX(pml_matches!$C$2:$C$321,$A166)","v":""},""]
[135,{"$f":"INDEX(pml_matches!$C$2:$C$321,$A167)","v":""},""]
[136,{"$f":"INDEX(pml_matches!$C$2:$C$321,$A168)","v":""},""]
[137,{"$f":"INDEX(pml_matches!$C$2:$C$321,$A169)","v":""},""]
[138,{"$f":"INDEX(pml_matches!$C$2:$C$321,$A170)","v":""},""]
[139,{"$f":"INDEX(pml_matches!$C$2:$C$321,$A171)","v":""},""]
[140,{"$f":"INDEX(pml_matches!$C$2:$C$321,$A172)","v":""},""]
[141,{"$f":"INDEX(pml_matches!$C$2:$C$321,$A173)","v":""},""]
[142,{"$f":"INDEX(pml_matches!$C$2:$C$321,$A174)","v":""},""]
[143,{"$f":"INDEX(pml_matches!$C$2:$C$321,$A175)","v":""},""]
[144,{"$f":"INDEX(pml_matches!$C$2:$C$321,$A176)","v":""},""]
[145,{"$f":"INDEX(pml_matches!$C$2:$C$321,$A177)","v":""},""]
[146,{"$f":"INDEX(pml_matches!$C$2:$C$321,$A178)","v":""},""]
[147,{"$f":"INDEX(pml_matches!$C$2:$C$321,$A179)","v":""},""]
[148,{"$f":"INDEX(pml_matches!$C$2:$C$321,$A180)","v":""},""]
[149,{"$f":"INDEX(pml_matches!$C$2:$C$321,$A181)","v":""},""]
[150,{"$f":"INDEX(pml_matches!$C$2:$C$321,$A182)","v":""},""]
[151,{"$f":"INDEX(pml_matches!$C$2:$C$321,$A183)","v":""},""]
[152,{"$f":"INDEX(pml_matches!$C$2:$C$321,$A184)","v":""},""]
[153,{"$f":"INDEX(pml_matches!$C$2:$C$321,$A185)","v":""},""]
[154,{"$f":"INDEX(pml_matches!$C$2:$C$321,$A186)","v":""},""]
[155,{"$f":"INDEX(pml_matches!$C$2:$C$321,$A187)","v":""},""]
[156,{"$f":"INDEX(pml_matches!$C$2:$C$321,$A188)","v":""},""]
[157,{"$f":"INDEX(pml_matches!$C$2:$C$321,$A189)","v":""},""]
[158,{"$f":"INDEX(pml_matches!$C$2:$C$321,$A190)","v":""},""]
[159,{"$f":"INDEX(pml_matches!$C$2:$C$321,$A191)","v":""},""]
[160,{"$f":"INDEX(pml_matches!$C$2:$C$321,$A192)","v":""},""]
[161,{"$f":"INDEX(pml_matches!$C$2:$C$321,$A193)","v":""},""]
[162,{"$f":"INDEX(pml_matches!$C$2:$C$321,$A194)","v":""},""]
[163,{"$f":"INDEX(pml_matches!$C$2:$C$321,$A195)","v":""},""]
[164,{"$f":"INDEX(pml_matches!$C$2:$C$321,$A196)","v":""},""]
[165,{"$f":"INDEX(pml_matches!$C$2:$C$321,$A197)","v":""},""]
[166,{"$f":"INDEX(pml_matches!$C$2:$C$321,$A198)","v":""},""]
[167,{"$f":"INDEX(pml_matches!$C$2:$C$321,$A199)","v":""},""]
[168,{"$f":"INDEX(pml_matches!$C$2:$C$321,$A200)","v":""},""]
[169,{"$f":"INDEX(pml_matches!$C$2:$C$321,$A201)","v":""},""]
[170,{"$f":"INDEX(pml_matches!$C$2:$C$321,$A202)","v":""},""]
[171,{"$f":"INDEX(pml_matches!$C$2:$C$321,$A203)","v":""},""]
[172,{"$f":"INDEX(pml_matches!$C$2:$C$321,$A204)","v":""},""]
[173,{"$f":"INDEX(pml_matches!$C$2:$C$321,$A205)","v":""},""]
[174,{"$f":"INDEX(pml_matches!$C$2:$C$321,$A206)","v":""},""]
[175,{"$f":"INDEX(pml_matches!$C$2:$C$321,$A207)","v":""},""]
[176,{"$f":"INDEX(pml_matches!$C$2:$C$321,$A208)","v":""},""]
[177,{"$f":"INDEX(pml_matches!$C$2:$C$321,$A209)","v":""},""]
[178,{"$f":"INDEX(pml_matches!$C$2:$C$321,$A210)","v":""},""]
[179,{"$f":"INDEX(pml_matches!$C$2:$C$321,$A211)","v":""},""]
[180,{"$f":"INDEX(pml_matches!$C$2:$C$321,$A212)","v":""},""]
[181,{"$f":"INDEX(pml_matches!$C$2:$C$321,$A213)","v":""},""]
[182,{"$f":"INDEX(pml_matches!$C$2:$C$321,$A214)","v":""},""]
[183,{"$f":"INDEX(pml_matches!$C$2:$C$321,$A215)","v":""},""]
[184,{"$f":"INDEX(pml_matches!$C$2:$C$321,$A216)","v":""},""]
[185,{"$f":"INDEX(pml_matches!$C$2:$C$321,$A217)","v":""},""]
[186,{"$f":"INDEX(pml_matches!$C$2:$C$321,$A218)","v":""},""]
[187,{"$f":"INDEX(pml_matches!$C$2:$C$321,$A219)","v":""},""]
[188,{"$f":"INDEX(pml_matches!$C$2:$C$321,$A220)","v":""},""]
[189,{"$f":"INDEX(pml_matches!$C$2:$C$321,$A221)","v":""},""]
[190,{"$f":"INDEX(pml_matches!$C$2:$C$321,$A222)","v":""},""]
[191,{"$f":"INDEX(pml_matches!$C$2:$C$321,$A223)","v":""},""]
[192,{"$f":"INDEX(pml_matches!$C$2:$C$321,$A224)","v":""},""]
[193,{"$f":"INDEX(pml_matches!$C$2:$C$321,$A225)","v":""},""]
[194,{"$f":"INDEX(pml_matches!$C$2:$C$321,$A226)","v":""},{"$f":"IFERROR(VALUE(LEFT($B226,8)),\"\")","v":""}]
[195,{"$f":"INDEX(pml_matches!$C$2:$C$321,$A227)","v":""},""]
[196,{"$f":"INDEX(pml_matches!$C$2:$C$321,$A228)","v":""},""]
[197,{"$f":"INDEX(pml_matches!$C$2:$C$321,$A229)","v":""},""]
[198,{"$f":"INDEX(pml_matches!$C$2:$C$321,$A230)","v":""},""]
[199,{"$f":"INDEX(pml_matches!$C$2:$C$321,$A231)","v":""},""]
[200,{"$f":"INDEX(pml_matches!$C$2:$C$321,$A232)","v":""},""]
[201,{"$f":"INDEX(pml_matches!$C$2:$C$321,$A233)","v":""},""]
[202,{"$f":"INDEX(pml_matches!$C$2:$C$321,$A234)","v":""},""]
[203,{"$f":"INDEX(pml_matches!$C$2:$C$321,$A235)","v":""},""]
[204,{"$f":"INDEX(pml_matches!$C$2:$C$321,$A236)","v":""},""]
[205,{"$f":"INDEX(pml_matches!$C$2:$C$321,$A237)","v":""},""]
[206,{"$f":"INDEX(pml_matches!$C$2:$C$321,$A238)","v":""},""]
[207,{"$f":"INDEX(pml_matches!$C$2:$C$321,$A239)","v":""},""]
[208,{"$f":"INDEX(pml_matches!$C$2:$C$321,$A240)","v":""},""]
[209,{"$f":"INDEX(pml_matches!$C$2:$C$321,$A241)","v":""},""]
[210,{"$f":"INDEX(pml_matches!$C$2:$C$321,$A242)","v":""},""]
[211,{"$f":"INDEX(pml_matches!$C$2:$C$321,$A243)","v":""},""]
[212,{"$f":"INDEX(pml_matches!$C$2:$C$321,$A244)","v":""},""]
[213,{"$f":"INDEX(pml_matches!$C$2:$C$321,$A245)","v":""},""]
[214,{"$f":"INDEX(pml_matches!$C$2:$C$321,$A246)","v":""},""]
[215,{"$f":"INDEX(pml_matches!$C$2:$C$321,$A247)","v":""},""]
[216,{"$f":"INDEX(pml_matches!$C$2:$C$321,$A248)","v":""},""]
[217,{"$f":"INDEX(pml_matches!$C$2:$C$321,$A249)","v":""},""]
[218,{"$f":"INDEX(pml_matches!$C$2:$C$321,$A250)","v":""},""]
[219,{"$f":"INDEX(pml_matches!$C$2:$C$321,$A251)","v":""},""]
[220,{"$f":"INDEX(pml_matches!$C$2:$C$321,$A252)","v":""},""]
[221,{"$f":"INDEX(pml_matches!$C$2:$C$321,$A253)","v":""},""]
[222,{"$f":"INDEX(pml_matches!$C$2:$C$321,$A254)","v":""},""]
[223,{"$f":"INDEX(pml_matches!$C$2:$C$321,$A255)","v":""},""]
[224,{"$f":"INDEX(pml_matches!$C$2:$C$321,$A256)","v":""},""]
[225,{"$f":"INDEX(pml_matches!$C$2:$C$321,$A257)","v":""},""]
[226,{"$f":"INDEX(pml_matches!$C$2:$C$321,$A258)","v":""},""]
[227,{"$f":"INDEX(pml_matches!$C$2:$C$321,$A259)","v":""},""]
[228,{"$f":"INDEX(pml_matches!$C$2:$C$321,$A260)","v":""},""]
[229,{"$f":"INDEX(pml_matches!$C$2:$C$321,$A261)","v":""},""]
[230,{"$f":"INDEX(pml_matches!$C$2:$C$321,$A262)","v":""},""]
[231,{"$f":"INDEX(pml_matches!$C$2:$C$321,$A263)","v":""},""]
[232,{"$f":"INDEX(pml_matches!$C$2:$C$321,$A264)","v":""},""]
[233,{"$f":"INDEX(pml_matches!$C$2:$C$321,$A265)","v":""},""]
[234,{"$f":"INDEX(pml_matches!$C$2:$C$321,$A266)","v":""},""]
[235,{"$f":"INDEX(pml_matches!$C$2:$C$321,$A267)","v":""},""]
[236,{"$f":"INDEX(pml_matches!$C$2:$C$321,$A268)","v":""},""]
[237,{"$f":"INDEX(pml_matches!$C$2:$C$321,$A269)","v":""},""]
[238,{"$f":"INDEX(pml_matches!$C$2:$C$321,$A270)","v":""},""]
[239,{"$f":"INDEX(pml_matches!$C$2:$C$321,$A271)","v":""},""]
[240,{"$f":"INDEX(pml_matches!$C$2:$C$321,$A272)","v":""},""]
[241,{"$f":"INDEX(pml_matches!$C$2:$C$321,$A273)","v":""},""]
[242,{"$f":"INDEX(pml_matches!$C$2:$C$321,$A274)","v":""},""]
[243,{"$f":"INDEX(pml_matches!$C$2:$C$321,$A275)","v":""},""]
[244,{"$f":"INDEX(pml_matches!$C$2:$C$321,$A276)","v":""},""]
[245,{"$f":"INDEX(pml_matches!$C$2:$C$321,$A277)","v":""},""]
[246,{"$f":"INDEX(pml_matches!$C$2:$C$321,$A278)","v":""},""]
[247,{"$f":"INDEX(pml_matches!$C$2:$C$321,$A279)","v":""},""]
[248,{"$f":"INDEX(pml_matches!$C$2:$C$321,$A280)","v":""},""]
[249,{"$f":"INDEX(pml_matches!$C$2:$C$321,$A281)","v":""},""]
[250,{"$f":"INDEX(pml_matches!$C$2:$C$321,$A282)","v":""},""]
[251,{"$f":"INDEX(pml_matches!$C$2:$C$321,$A283)","v":""},""]
[252,{"$f":"INDEX(pml_matches!$C$2:$C$321,$A284)","v":""},""]
[253,{"$f":"INDEX(pml_matches!$C$2:$C$321,$A285)","v":""},""]
[254,{"$f":"INDEX(pml_matches!$C$2:$C$321,$A286)","v":""},""]
[255,{"$f":"INDEX(pml_matches!$C$2:$C$321,$A287)","v":""},""]
[256,{"$f":"INDEX(pml_matches!$C$2:$C$321,$A288)","v":""},""]
[257,{"$f":"INDEX(pml_matches!$C$2:$C$321,$A289)","v":""},""]
[258,{"$f":"INDEX(pml_matches!$C$2:$C$321,$A290)","v":""},{"$f":"IFERROR(VALUE(LEFT($B290,8)),\"\")","v":""}]
[259,{"$f":"INDEX(pml_matches!$C$2:$C$321,$A291)","v":""},""]
[260,{"$f":"INDEX(pml_matches!$C$2:$C$321,$A292)","v":""},""]
[261,{"$f":"INDEX(pml_matches!$C$2:$C$321,$A293)","v":""},""]
[262,{"$f":"INDEX(pml_matches!$C$2:$C$321,$A294)","v":""},""]
[263,{"$f":"INDEX(pml_matches!$C$2:$C$321,$A295)","v":""},""]
[264,{"$f":"INDEX(pml_matches!$C$2:$C$321,$A296)","v":""},""]
[265,{"$f":"INDEX(pml_matches!$C$2:$C$321,$A297)","v":""},""]
[266,{"$f":"INDEX(pml_matches!$C$2:$C$321,$A298)","v":""},""]
[267,{"$f":"INDEX(pml_matches!$C$2:$C$321,$A299)","v":""},""]
[268,{"$f":"INDEX(pml_matches!$C$2:$C$321,$A300)","v":""},""]
[269,{"$f":"INDEX(pml_matches!$C$2:$C$321,$A301)","v":""},""]
[270,{"$f":"INDEX(pml_matches!$C$2:$C$321,$A302)","v":""},""]
[271,{"$f":"INDEX(pml_matches!$C$2:$C$321,$A303)","v":""},""]
[272,{"$f":"INDEX(pml_matches!$C$2:$C$321,$A304)","v":""},""]
[273,{"$f":"INDEX(pml_matches!$C$2:$C$321,$A305)","v":""},""]
[274,{"$f":"INDEX(pml_matches!$C$2:$C$321,$A306)","v":""},""]
[275,{"$f":"INDEX(pml_matches!$C$2:$C$321,$A307)","v":""},""]
[276,{"$f":"INDEX(pml_matches!$C$2:$C$321,$A308)","v":""},""]
[277,{"$f":"INDEX(pml_matches!$C$2:$C$321,$A309)","v":""},""]
[278,{"$f":"INDEX(pml_matches!$C$2:$C$321,$A310)","v":""},""]
[279,{"$f":"INDEX(pml_matches!$C$2:$C$321,$A311)","v":""},""]
[280,{"$f":"INDEX(pml_matches!$C$2:$C$321,$A312)","v":""},""]
[281,{"$f":"INDEX(pml_matches!$C$2:$C$321,$A313)","v":""},""]
[282,{"$f":"INDEX(pml_matches!$C$2:$C$321,$A314)","v":""},""]
[283,{"$f":"INDEX(pml_matches!$C$2:$C$321,$A315)","v":""},""]
[284,{"$f":"INDEX(pml_matches!$C$2:$C$321,$A316)","v":""},""]
[285,{"$f":"INDEX(pml_matches!$C$2:$C$321,$A317)","v":""},""]
[286,{"$f":"INDEX(pml_matches!$C$2:$C$321,$A318)","v":""},""]
[287,{"$f":"INDEX(pml_matches!$C$2:$C$321,$A319)","v":""},""]
[288,{"$f":"INDEX(pml_matches!$C$2:$C$321,$A320)","v":""},""]
[289,{"$f":"INDEX(pml_matches!$C$2:$C$321,$A321)","v":""},""]
[290,{"$f":"INDEX(pml_matches!$C$2:$C$321,$A322)","v":""},""]
[291,{"$f":"INDEX(pml_matches!$C$2:$C$321,$A323)","v":""},""]
[292,{"$f":"INDEX(pml_matches!$C$2:$C$321,$A324)","v":""},""]
[293,{"$f":"INDEX(pml_matches!$C$2:$C$321,$A325)","v":""},""]
[294,{"$f":"INDEX(pml_matches!$C$2:$C$321,$A326)","v":""},""]
[295,{"$f":"INDEX(pml_matches!$C$2:$C$321,$A327)","v":""},""]
[296,{"$f":"INDEX(pml_matches!$C$2:$C$321,$A328)","v":""},""]
[297,{"$f":"INDEX(pml_matches!$C$2:$C$321,$A329)","v":""},""]
[298,{"$f":"INDEX(pml_matches!$C$2:$C$321,$A330)","v":""},""]
[299,{"$f":"INDEX(pml_matches!$C$2:$C$321,$A331)","v":""},""]
[300,{"$f":"INDEX(pml_matches!$C$2:$C$321,$A332)","v":""},""]
[301,{"$f":"INDEX(pml_matches!$C$2:$C$321,$A333)","v":""},""]
[302,{"$f":"INDEX(pml_matches!$C$2:$C$321,$A334)","v":""},""]
[303,{"$f":"INDEX(pml_matches!$C$2:$C$321,$A335)","v":""},""]
[304,{"$f":"INDEX(pml_matches!$C$2:$C$321,$A336)","v":""},""]
[305,{"$f":"INDEX(pml_matches!$C$2:$C$321,$A337)","v":""},""]
[306,{"$f":"INDEX(pml_matches!$C$2:$C$321,$A338)","v":""},""]
[307,{"$f":"INDEX(pml_matches!$C$2:$C$321,$A339)","v":""},""]
[308,{"$f":"INDEX(pml_matches!$C$2:$C$321,$A340)","v":""},""]
[309,{"$f":"INDEX(pml_matches!$C$2:$C$321,$A341)","v":""},""]
[310,{"$f":"INDEX(pml_matches!$C$2:$C$321,$A342)","v":""},""]
[311,{"$f":"INDEX(pml_matches!$C$2:$C$321,$A343)","v":""},""]
[312,{"$f":"INDEX(pml_matches!$C$2:$C$321,$A344)","v":""},""]
[313,{"$f":"INDEX(pml_matches!$C$2:$C$321,$A345)","v":""},""]
[314,{"$f":"INDEX(pml_matches!$C$2:$C$321,$A346)","v":""},""]
[315,{"$f":"INDEX(pml_matches!$C$2:$C$321,$A347)","v":""},""]
[316,{"$f":"INDEX(pml_matches!$C$2:$C$321,$A348)","v":""},""]
[317,{"$f":"INDEX(pml_matches!$C$2:$C$321,$A349)","v":""},""]
[318,{"$f":"INDEX(pml_matches!$C$2:$C$321,$A350)","v":""},""]
[319,{"$f":"INDEX(pml_matches!$C$2:$C$321,$A351)","v":""},""]
[320,{"$f":"INDEX(pml_matches!$C$2:$C$321,$A352)","v":""},""]

{"sheet":"LEAGUES","index":3,"n_rows":44,"n_cols":4,"rows_kept":44,"cut":false,"hidden":false,"merged":[]}
[]
[null,"СЛУЖЕБЕН ИЗБОР НА ПОТОЦИ"]
[]
[null,"ДОМАКИН | ГОСТ   ",null,"НЕУТРАЛЕН ТЕРЕН"]
[]
[null,"ВАРИАНТ 1",null,"ВАРИАНТ 1"]
[1,{"$f":"INDEX(pml_leagues!$C$2:$C$25,$A7)","v":""},1,{"$f":"INDEX(pml_leagues!$C$2:$C$25,$C7)","v":""}]
[2,{"$f":"INDEX(pml_leagues!$C$2:$C$25,$A8)","v":""},3,{"$f":"INDEX(pml_leagues!$C$2:$C$25,$C8)","v":""}]
[3,{"$f":"INDEX(pml_leagues!$C$2:$C$25,$A9)","v":""},5,{"$f":"INDEX(pml_leagues!$C$2:$C$25,$C9)","v":""}]
[4,{"$f":"INDEX(pml_leagues!$C$2:$C$25,$A10)","v":""},7,{"$f":"INDEX(pml_leagues!$C$2:$C$25,$C10)","v":""}]
[5,{"$f":"INDEX(pml_leagues!$C$2:$C$25,$A11)","v":""},2,{"$f":"INDEX(pml_leagues!$C$2:$C$25,$C11)","v":""}]
[6,{"$f":"INDEX(pml_leagues!$C$2:$C$25,$A12)","v":""},4,{"$f":"INDEX(pml_leagues!$C$2:$C$25,$C12)","v":""}]
[7,{"$f":"INDEX(pml_leagues!$C$2:$C$25,$A13)","v":""},6,{"$f":"INDEX(pml_leagues!$C$2:$C$25,$C13)","v":""}]
[8,{"$f":"INDEX(pml_leagues!$C$2:$C$25,$A14)","v":""},8,{"$f":"INDEX(pml_leagues!$C$2:$C$25,$C14)","v":""}]
[]
[null,"ВАРИАНТ 2",null,"ВАРИАНТ 2"]
[1,{"$f":"INDEX(pml_leagues!$C$2:$C$25,$A17)","v":""},1,{"$f":"INDEX(pml_leagues!$C$2:$C$25,$C17)","v":""}]
[1,{"$f":"INDEX(pml_leagues!$C$2:$C$25,$A18)","v":""},1,{"$f":"INDEX(pml_leagues!$C$2:$C$25,$C18)","v":""}]
[2,{"$f":"INDEX(pml_leagues!$C$2:$C$25,$A19)","v":""},3,{"$f":"INDEX(pml_leagues!$C$2:$C$25,$C19)","v":""}]
[2,{"$f":"INDEX(pml_leagues!$C$2:$C$25,$A20)","v":""},3,{"$f":"INDEX(pml_leagues!$C$2:$C$25,$C20)","v":""}]
[3,{"$f":"INDEX(pml_leagues!$C$2:$C$25,$A21)","v":""},2,{"$f":"INDEX(pml_leagues!$C$2:$C$25,$C21)","v":""}]
[3,{"$f":"INDEX(pml_leagues!$C$2:$C$25,$A22)","v":""},2,{"$f":"INDEX(pml_leagues!$C$2:$C$25,$C22)","v":""}]
[4,{"$f":"INDEX(pml_leagues!$C$2:$C$25,$A23)","v":""},4,{"$f":"INDEX(pml_leagues!$C$2:$C$25,$C23)","v":""}]
[4,{"$f":"INDEX(pml_leagues!$C$2:$C$25,$A24)","v":""},4,{"$f":"INDEX(pml_leagues!$C$2:$C$25,$C24)","v":""}]
[]
[null,"ВАРИАНТ 3",null,"ВАРИАНТ 3"]
[1,{"$f":"INDEX(pml_leagues!$C$2:$C$25,$A27)","v":""},1,{"$f":"INDEX(pml_leagues!$C$2:$C$25,$C27)","v":""}]
[1,{"$f":"INDEX(pml_leagues!$C$2:$C$25,$A28)","v":""},1,{"$f":"INDEX(pml_leagues!$C$2:$C$25,$C28)","v":""}]
[2,{"$f":"INDEX(pml_leagues!$C$2:$C$25,$A29)","v":""},3,{"$f":"INDEX(pml_leagues!$C$2:$C$25,$C29)","v":""}]
[2,{"$f":"INDEX(pml_leagues!$C$2:$C$25,$A30)","v":""},5,{"$f":"INDEX(pml_leagues!$C$2:$C$25,$C30)","v":""}]
[3,{"$f":"INDEX(pml_leagues!$C$2:$C$25,$A31)","v":""},2,{"$f":"INDEX(pml_leagues!$C$2:$C$25,$C31)","v":""}]
[4,{"$f":"INDEX(pml_leagues!$C$2:$C$25,$A32)","v":""},2,{"$f":"INDEX(pml_leagues!$C$2:$C$25,$C32)","v":""}]
[5,{"$f":"INDEX(pml_leagues!$C$2:$C$25,$A33)","v":""},4,{"$f":"INDEX(pml_leagues!$C$2:$C$25,$C33)","v":""}]
[6,{"$f":"INDEX(pml_leagues!$C$2:$C$25,$A34)","v":""},6,{"$f":"INDEX(pml_leagues!$C$2:$C$25,$C34)","v":""}]
[]
[null,"ВАРИАНТ 4",null,"ВАРИАНТ 4"]
[1,{"$f":"INDEX(pml_leagues!$C$2:$C$25,$A37)","v":""},1,{"$f":"INDEX(pml_leagues!$C$2:$C$25,$C37)","v":""}]
[2,{"$f":"INDEX(pml_leagues!$C$2:$C$25,$A38)","v":""},3,{"$f":"INDEX(pml_leagues!$C$2:$C$25,$C38)","v":""}]
[3,{"$f":"INDEX(pml_leagues!$C$2:$C$25,$A39)","v":""},5,{"$f":"INDEX(pml_leagues!$C$2:$C$25,$C39)","v":""}]
[4,{"$f":"INDEX(pml_leagues!$C$2:$C$25,$A40)","v":""},5,{"$f":"INDEX(pml_leagues!$C$2:$C$25,$C40)","v":""}]
[5,{"$f":"INDEX(pml_leagues!$C$2:$C$25,$A41)","v":""},2,{"$f":"INDEX(pml_leagues!$C$2:$C$25,$C41)","v":""}]
[5,{"$f":"INDEX(pml_leagues!$C$2:$C$25,$A42)","v":""},4,{"$f":"INDEX(pml_leagues!$C$2:$C$25,$C42)","v":""}]
[6,{"$f":"INDEX(pml_leagues!$C$2:$C$25,$A43)","v":""},6,{"$f":"INDEX(pml_leagues!$C$2:$C$25,$C43)","v":""}]
[6,{"$f":"INDEX(pml_leagues!$C$2:$C$25,$A44)","v":""},6,{"$f":"INDEX(pml_leagues!$C$2:$C$25,$C44)","v":""}]

{"sheet":"MATCHES","index":4,"n_rows":40,"n_cols":8,"rows_kept":40,"cut":false,"hidden":false,"merged":[]}
[]
[null,"СЛУЖЕБЕН ИЗБОР НА МАЧОВЕ"]
[]
[null,"▼ ▼ ▼ попълни избраните потоци тук ▼ ▼ ▼",null,"ВАРИАНТ 1",null,"ВАРИАНТ 2",null,"ВАРИАНТ 3"]
[{"$f":"LEFT(B5,6)","v":""},null,{"$f":"VALUE(CONCATENATE(A5,0,1))","v":1},{"$f":"IFERROR(INDEX(DRAFTS!$B$33:$B$332,MATCH(C5,DRAFTS!$C$33:$C$332,0)),\"\")","v":""},{"$f":"VALUE(CONCATENATE(A5,0,1))","v":1},{"$f":"IFERROR(INDEX(DRAFTS!$B$33:$B$332,MATCH(E5,DRAFTS!$C$33:$C$332,0)),\"\")","v":""},{"$f":"VALUE(IF(OR(LEFT(A5,1)=\"2\",LEFT(A5,1)=\"3\"),CONCATENATE(A5,0,3),CONCATENATE(A5,0,5)))","v":5},{"$f":"IFERROR(INDEX(DRAFTS!$B$33:$B$332,MATCH(G5,DRAFTS!$C$33:$C$332,0)),\"\")","v":""}]
[{"$f":"LEFT(B6,6)","v":""},null,{"$f":"VALUE(IF(A6=A5,CONCATENATE(A6,0,3),CONCATENATE(A6,0,1)))","v":3},{"$f":"IFERROR(INDEX(DRAFTS!$B$33:$B$332,MATCH(C6,DRAFTS!$C$33:$C$332,0)),\"\")","v":""},{"$f":"VALUE(IF(A6=A5,CONCATENATE(A6,0,2),CONCATENATE(A6,0,1)))","v":2},{"$f":"IFERROR(INDEX(DRAFTS!$B$33:$B$332,MATCH(E6,DRAFTS!$C$33:$C$332,0)),\"\")","v":""},{"$f":"VALUE(IF(OR(LEFT(A6,1)=\"2\",LEFT(A6,1)=\"3\"),CONCATENATE(A6,0,3),IF(A6=A5,CONCATENATE(A6,0,7),CONCATENATE(A6,0,5))))","v":7},{"$f":"IFERROR(INDEX(DRAFTS!$B$33:$B$332,MATCH(G6,DRAFTS!$C$33:$C$332,0)),\"\")","v":""}]
["",null,{"$f":"VALUE(IF(OR(A7=A6,A7=A5),CONCATENATE(A7,0,3),CONCATENATE(A7,0,1)))","v":3},{"$f":"IFERROR(INDEX(DRAFTS!$B$33:$B$332,MATCH(C7,DRAFTS!$C$33:$C$332,0)),\"\")","v":""},{"$f":"VALUE(IF(OR(A7=A6,A7=A5),CONCATENATE(A7,0,2),CONCATENATE(A7,0,1)))","v":2},{"$f":"IFERROR(INDEX(DRAFTS!$B$33:$B$332,MATCH(E7,DRAFTS!$C$33:$C$332,0)),\"\")","v":""},{"$f":"VALUE(IF(OR(LEFT(A7,1)=\"2\",LEFT(A7,1)=\"3\"),CONCATENATE(A7,0,3),IF(OR(A7=A6,A7=A5),CONCATENATE(A7,0,7),CONCATENATE(A7,0,5))))","v":7},{"$f":"IFERROR(INDEX(DRAFTS!$B$33:$B$332,MATCH(G7,DRAFTS!$C$33:$C$332,0)),\"\")","v":""}]
["",null,{"$f":"VALUE(IF(OR(A8=A7,A8=A6,A8=A5),CONCATENATE(A8,0,3),CONCATENATE(A8,0,1)))","v":3},{"$f":"IFERROR(INDEX(DRAFTS!$B$33:$B$332,MATCH(C8,DRAFTS!$C$33:$C$332,0)),\"\")","v":""},{"$f":"VALUE(IF(OR(A8=A7,A8=A6,A8=A5),CONCATENATE(A8,0,2),CONCATENATE(A8,0,1)))","v":2},{"$f":"IFERROR(INDEX(DRAFTS!$B$33:$B$332,MATCH(E8,DRAFTS!$C$33:$C$332,0)),\"\")","v":""},{"$f":"VALUE(IF(OR(LEFT(A8,1)=\"2\",LEFT(A8,1)=\"3\"),CONCATENATE(A8,0,3),IF(OR(A8=A7,A8=A6,A8=A5),CONCATENATE(A8,0,7),CONCATENATE(A8,0,5))))","v":7},{"$f":"IFERROR(INDEX(DRAFTS!$B$33:$B$332,MATCH(G8,DRAFTS!$C$33:$C$332,0)),\"\")","v":""}]
["",null,{"$f":"VALUE(IF(OR(A9=A8,A9=A7,A9=A6,A9=A5),CONCATENATE(A9,0,3),CONCATENATE(A9,0,1)))","v":3},{"$f":"IFERROR(INDEX(DRAFTS!$B$33:$B$332,MATCH(C9,DRAFTS!$C$33:$C$332,0)),\"\")","v":""},{"$f":"VALUE(IF(OR(A9=A8,A9=A7,A9=A6,A9=A5),CONCATENATE(A9,0,2),CONCATENATE(A9,0,1)))","v":2},{"$f":"IFERROR(INDEX(DRAFTS!$B$33:$B$332,MATCH(E9,DRAFTS!$C$33:$C$332,0)),\"\")","v":""},{"$f":"VALUE(IF(OR(LEFT(A9,1)=\"2\",LEFT(A9,1)=\"3\"),CONCATENATE(A9,0,3),IF(OR(A9=A8,A9=A7,A9=A6,A9=A5),CONCATENATE(A9,0,7),CONCATENATE(A9,0,5))))","v":7},{"$f":"IFERROR(INDEX(DRAFTS!$B$33:$B$332,MATCH(G9,DRAFTS!$C$33:$C$332,0)),\"\")","v":""}]
["",null,{"$f":"VALUE(IF(OR(A10=A9,A10=A8,A10=A7,A10=A6,A10=A5),CONCATENATE(A10,0,3),CONCATENATE(A10,0,1)))","v":3},{"$f":"IFERROR(INDEX(DRAFTS!$B$33:$B$332,MATCH(C10,DRAFTS!$C$33:$C$332,0)),\"\")","v":""},{"$f":"VALUE(IF(OR(A10=A9,A10=A8,A10=A7,A10=A6,A10=A5),CONCATENATE(A10,0,2),CONCATENATE(A10,0,1)))","v":2},{"$f":"IFERROR(INDEX(DRAFTS!$B$33:$B$332,MATCH(E10,DRAFTS!$C$33:$C$332,0)),\"\")","v":""},{"$f":"VALUE(IF(OR(LEFT(A10,1)=\"2\",LEFT(A10,1)=\"3\"),CONCATENATE(A10,0,3),IF(OR(A10=A9,A10=A8,A10=A7,A10=A6,A10=A5),CONCATENATE(A10,0,7),CONCATENATE(A10,0,5))))","v":7},{"$f":"IFERROR(INDEX(DRAFTS!$B$33:$B$332,MATCH(G10,DRAFTS!$C$33:$C$332,0)),\"\")","v":""}]
["",null,{"$f":"VALUE(IF(OR(A11=A10,A11=A9,A11=A8,A11=A7,A11=A6,A11=A5),CONCATENATE(A11,0,3),CONCATENATE(A11,0,1)))","v":3},{"$f":"IFERROR(INDEX(DRAFTS!$B$33:$B$332,MATCH(C11,DRAFTS!$C$33:$C$332,0)),\"\")","v":""},{"$f":"VALUE(IF(OR(A11=A10,A11=A9,A11=A8,A11=A7,A11=A6,A11=A5),CONCATENATE(A11,0,2),CONCATENATE(A11,0,1)))","v":2},{"$f":"IFERROR(INDEX(DRAFTS!$B$33:$B$332,MATCH(E11,DRAFTS!$C$33:$C$332,0)),\"\")","v":""},{"$f":"VALUE(IF(OR(LEFT(A11,1)=\"2\",LEFT(A11,1)=\"3\"),CONCATENATE(A11,0,3),IF(OR(A11=A10,A11=A9,A11=A8,A11=A7,A11=A6,A11=A5),CONCATENATE(A11,0,7),CONCATENATE(A11,0,5))))","v":7},{"$f":"IFERROR(INDEX(DRAFTS!$B$33:$B$332,MATCH(G11,DRAFTS!$C$33:$C$332,0)),\"\")","v":""}]
["",null,{"$f":"VALUE(IF(OR(A12=A11,A12=A10,A12=A9,A12=A8,A12=A7,A12=A6,A12=A5),CONCATENATE(A12,0,3),CONCATENATE(A12,0,1)))","v":3},{"$f":"IFERROR(INDEX(DRAFTS!$B$33:$B$332,MATCH(C12,DRAFTS!$C$33:$C$332,0)),\"\")","v":""},{"$f":"VALUE(IF(OR(A12=A11,A12=A10,A12=A9,A12=A8,A12=A7,A12=A6,A12=A5),CONCATENATE(A12,0,2),CONCATENATE(A12,0,1)))","v":2},{"$f":"IFERROR(INDEX(DRAFTS!$B$33:$B$332,MATCH(E12,DRAFTS!$C$33:$C$332,0)),\"\")","v":""},{"$f":"VALUE(IF(OR(LEFT(A12,1)=\"2\",LEFT(A12,1)=\"3\"),CONCATENATE(A12,0,3),IF(OR(A12=A11,A12=A10,A12=A9,A12=A8,A12=A7,A12=A6,A12=A5),CONCATENATE(A12,0,7),CONCATENATE(A12,0,5))))","v":7},{"$f":"IFERROR(INDEX(DRAFTS!$B$33:$B$332,MATCH(G12,DRAFTS!$C$33:$C$332,0)),\"\")","v":""}]
[null,null,null,"<>",null,"<>",null,"<>"]
[null,null,{"$f":"VALUE(CONCATENATE(A5,0,2))","v":2},{"$f":"IFERROR(INDEX(DRAFTS!$B$33:$B$332,MATCH(C14,DRAFTS!$C$33:$C$332,0)),\"\")","v":""},{"$f":"VALUE(IF(OR(LEFT(A5,1)=\"2\",LEFT(A5,1)=\"3\"),CONCATENATE(A5,0,4),CONCATENATE(A5,0,8)))","v":8},{"$f":"IFERROR(INDEX(DRAFTS!$B$33:$B$332,MATCH(E14,DRAFTS!$C$33:$C$332,0)),\"\")","v":""},{"$f":"VALUE(IF(OR(LEFT(A5,1)=\"2\",LEFT(A5,1)=\"3\"),CONCATENATE(A5,0,4),CONCATENATE(A5,0,6)))","v":6},{"$f":"IFERROR(INDEX(DRAFTS!$B$33:$B$332,MATCH(G14,DRAFTS!$C$33:$C$332,0)),\"\")","v":""}]
[null,null,{"$f":"VALUE(IF(A6=A5,CONCATENATE(A6,0,4),CONCATENATE(A6,0,2)))","v":4},{"$f":"IFERROR(INDEX(DRAFTS!$B$33:$B$332,MATCH(C15,DRAFTS!$C$33:$C$332,0)),\"\")","v":""},{"$f":"VALUE(IF(OR(LEFT(A6,1)=\"2\",LEFT(A6,1)=\"3\"),CONCATENATE(A6,0,4),IF(A6=A5,CONCATENATE(A6,0,7),CONCATENATE(A6,0,8))))","v":7},{"$f":"IFERROR(INDEX(DRAFTS!$B$33:$B$332,MATCH(E15,DRAFTS!$C$33:$C$332,0)),\"\")","v":""},{"$f":"VALUE(IF(OR(LEFT(A6,1)=\"2\",LEFT(A6,1)=\"3\"),CONCATENATE(A6,0,4),IF(A6=A5,CONCATENATE(A6,0,8),CONCATENATE(A6,0,6))))","v":8},{"$f":"IFERROR(INDEX(DRAFTS!$B$33:$B$332,MATCH(G15,DRAFTS!$C$33:$C$332,0)),\"\")","v":""}]
[null,null,{"$f":"VALUE(IF(OR(A7=A6,A7=A5),CONCATENATE(A7,0,4),CONCATENATE(A7,0,2)))","v":4},{"$f":"IFERROR(INDEX(DRAFTS!$B$33:$B$332,MATCH(C16,DRAFTS!$C$33:$C$332,0)),\"\")","v":""},{"$f":"VALUE(IF(OR(LEFT(A7,1)=\"2\",LEFT(A7,1)=\"3\"),CONCATENATE(A7,0,4),IF(OR(A7=A6,A7=A5),CONCATENATE(A7,0,7),CONCATENATE(A7,0,8))))","v":7},{"$f":"IFERROR(INDEX(DRAFTS!$B$33:$B$332,MATCH(E16,DRAFTS!$C$33:$C$332,0)),\"\")","v":""},{"$f":"VALUE(IF(OR(LEFT(A7,1)=\"2\",LEFT(A7,1)=\"3\"),CONCATENATE(A7,0,4),IF(OR(A7=A6,A7=A5),CONCATENATE(A7,0,8),CONCATENATE(A7,0,6))))","v":8},{"$f":"IFERROR(INDEX(DRAFTS!$B$33:$B$332,MATCH(G16,DRAFTS!$C$33:$C$332,0)),\"\")","v":""}]
[1,{"$f":"INDEX(DRAFTS!$B$4:$B$27,$A17)","v":""},{"$f":"VALUE(IF(OR(A8=A7,A8=A6,A8=A5),CONCATENATE(A8,0,4),CONCATENATE(A8,0,2)))","v":4},{"$f":"IFERROR(INDEX(DRAFTS!$B$33:$B$332,MATCH(C17,DRAFTS!$C$33:$C$332,0)),\"\")","v":""},{"$f":"VALUE(IF(OR(LEFT(A8,1)=\"2\",LEFT(A8,1)=\"3\"),CONCATENATE(A8,0,4),IF(OR(A8=A7,A8=A6,A8=A5),CONCATENATE(A8,0,7),CONCATENATE(A8,0,8))))","v":7},{"$f":"IFERROR(INDEX(DRAFTS!$B$33:$B$332,MATCH(E17,DRAFTS!$C$33:$C$332,0)),\"\")","v":""},{"$f":"VALUE(IF(OR(LEFT(A8,1)=\"2\",LEFT(A8,1)=\"3\"),CONCATENATE(A8,0,4),IF(OR(A8=A7,A8=A6,A8=A5),CONCATENATE(A8,0,8),CONCATENATE(A8,0,6))))","v":8},{"$f":"IFERROR(INDEX(DRAFTS!$B$33:$B$332,MATCH(G17,DRAFTS!$C$33:$C$332,0)),\"\")","v":""}]
[2,{"$f":"INDEX(DRAFTS!$B$4:$B$27,$A18)","v":""},{"$f":"VALUE(IF(OR(A9=A8,A9=A7,A9=A6,A9=A5),CONCATENATE(A9,0,4),CONCATENATE(A9,0,2)))","v":4},{"$f":"IFERROR(INDEX(DRAFTS!$B$33:$B$332,MATCH(C18,DRAFTS!$C$33:$C$332,0)),\"\")","v":""},{"$f":"VALUE(IF(OR(LEFT(A9,1)=\"2\",LEFT(A9,1)=\"3\"),CONCATENATE(A9,0,4),IF(OR(A9=A8,A9=A7,A9=A6,A9=A5),CONCATENATE(A9,0,7),CONCATENATE(A9,0,8))))","v":7},{"$f":"IFERROR(INDEX(DRAFTS!$B$33:$B$332,MATCH(E18,DRAFTS!$C$33:$C$332,0)),\"\")","v":""},{"$f":"VALUE(IF(OR(LEFT(A9,1)=\"2\",LEFT(A9,1)=\"3\"),CONCATENATE(A9,0,4),IF(OR(A9=A8,A9=A7,A9=A6,A9=A5),CONCATENATE(A9,0,8),CONCATENATE(A9,0,6))))","v":8},{"$f":"IFERROR(INDEX(DRAFTS!$B$33:$B$332,MATCH(G18,DRAFTS!$C$33:$C$332,0)),\"\")","v":""}]
[3,{"$f":"INDEX(DRAFTS!$B$4:$B$27,$A19)","v":""},{"$f":"VALUE(IF(OR(A10=A9,A10=A8,A10=A7,A10=A6,A10=A5),CONCATENATE(A10,0,4),CONCATENATE(A10,0,2)))","v":4},{"$f":"IFERROR(INDEX(DRAFTS!$B$33:$B$332,MATCH(C19,DRAFTS!$C$33:$C$332,0)),\"\")","v":""},{"$f":"VALUE(IF(OR(LEFT(A10,1)=\"2\",LEFT(A10,1)=\"3\"),CONCATENATE(A10,0,4),IF(OR(A10=A9,A10=A8,A10=A7,A10=A6,A10=A5),CONCATENATE(A10,0,7),CONCATENATE(A10,0,8))))","v":7},{"$f":"IFERROR(INDEX(DRAFTS!$B$33:$B$332,MATCH(E19,DRAFTS!$C$33:$C$332,0)),\"\")","v":""},{"$f":"VALUE(IF(OR(LEFT(A10,1)=\"2\",LEFT(A10,1)=\"3\"),CONCATENATE(A10,0,4),IF(OR(A10=A9,A10=A8,A10=A7,A10=A6,A10=A5),CONCATENATE(A10,0,8),CONCATENATE(A10,0,6))))","v":8},{"$f":"IFERROR(INDEX(DRAFTS!$B$33:$B$332,MATCH(G19,DRAFTS!$C$33:$C$332,0)),\"\")","v":""}]
[4,{"$f":"INDEX(DRAFTS!$B$4:$B$27,$A20)","v":""},{"$f":"VALUE(IF(OR(A11=A10,A11=A9,A11=A8,A11=A7,A11=A6,A11=A5),CONCATENATE(A11,0,4),CONCATENATE(A11,0,2)))","v":4},{"$f":"IFERROR(INDEX(DRAFTS!$B$33:$B$332,MATCH(C20,DRAFTS!$C$33:$C$332,0)),\"\")","v":""},{"$f":"VALUE(IF(OR(LEFT(A11,1)=\"2\",LEFT(A11,1)=\"3\"),CONCATENATE(A11,0,4),IF(OR(A11=A10,A11=A9,A11=A8,A11=A7,A11=A6,A11=A5),CONCATENATE(A11,0,7),CONCATENATE(A11,0,8))))","v":7},{"$f":"IFERROR(INDEX(DRAFTS!$B$33:$B$332,MATCH(E20,DRAFTS!$C$33:$C$332,0)),\"\")","v":""},{"$f":"VALUE(IF(OR(LEFT(A11,1)=\"2\",LEFT(A11,1)=\"3\"),CONCATENATE(A11,0,4),IF(OR(A11=A10,A11=A9,A11=A8,A11=A7,A11=A6,A11=A5),CONCATENATE(A11,0,8),CONCATENATE(A11,0,6))))","v":8},{"$f":"IFERROR(INDEX(DRAFTS!$B$33:$B$332,MATCH(G20,DRAFTS!$C$33:$C$332,0)),\"\")","v":""}]
[5,{"$f":"INDEX(DRAFTS!$B$4:$B$27,$A21)","v":""},{"$f":"VALUE(IF(OR(A12=A11,A12=A10,A12=A9,A12=A8,A12=A7,A12=A6,A12=A5),CONCATENATE(A12,0,4),CONCATENATE(A12,0,2)))","v":4},{"$f":"IFERROR(INDEX(DRAFTS!$B$33:$B$332,MATCH(C21,DRAFTS!$C$33:$C$332,0)),\"\")","v":""},{"$f":"VALUE(IF(OR(LEFT(A12,1)=\"2\",LEFT(A12,1)=\"3\"),CONCATENATE(A12,0,4),IF(OR(A12=A11,A12=A10,A12=A9,A12=A8,A12=A7,A12=A6,A12=A5),CONCATENATE(A12,0,7),CONCATENATE(A12,0,8))))","v":7},{"$f":"IFERROR(INDEX(DRAFTS!$B$33:$B$332,MATCH(E21,DRAFTS!$C$33:$C$332,0)),\"\")","v":""},{"$f":"VALUE(IF(OR(LEFT(A12,1)=\"2\",LEFT(A12,1)=\"3\"),CONCATENATE(A12,0,4),IF(OR(A12=A11,A12=A10,A12=A9,A12=A8,A12=A7,A12=A6,A12=A5),CONCATENATE(A12,0,8),CONCATENATE(A12,0,6))))","v":8},{"$f":"IFERROR(INDEX(DRAFTS!$B$33:$B$332,MATCH(G21,DRAFTS!$C$33:$C$332,0)),\"\")","v":""}]
[6,{"$f":"INDEX(DRAFTS!$B$4:$B$27,$A22)","v":""}]
[7,{"$f":"INDEX(DRAFTS!$B$4:$B$27,$A23)","v":""},null,"ВАРИАНТ 4",null,"ВАРИАНТ 5",null,"ВАРИАНТ 6"]
[8,{"$f":"INDEX(DRAFTS!$B$4:$B$27,$A24)","v":""},{"$f":"C14","v":2},{"$f":"IFERROR(INDEX(DRAFTS!$B$33:$B$332,MATCH(C24,DRAFTS!$C$33:$C$332,0)),\"\")","v":""},{"$f":"E14","v":8},{"$f":"IFERROR(INDEX(DRAFTS!$B$33:$B$332,MATCH(E24,DRAFTS!$C$33:$C$332,0)),\"\")","v":""},{"$f":"G14","v":6},{"$f":"IFERROR(INDEX(DRAFTS!$B$33:$B$332,MATCH(G24,DRAFTS!$C$33:$C$332,0)),\"\")","v":""}]
[9,{"$f":"INDEX(DRAFTS!$B$4:$B$27,$A25)","v":""},4,{"$f":"IFERROR(INDEX(DRAFTS!$B$33:$B$332,MATCH(C25,DRAFTS!$C$33:$C$332,0)),\"\")","v":""},7,{"$f":"IFERROR(INDEX(DRAFTS!$B$33:$B$332,MATCH(E25,DRAFTS!$C$33:$C$332,0)),\"\")","v":""},8,{"$f":"IFERROR(INDEX(DRAFTS!$B$33:$B$332,MATCH(G25,DRAFTS!$C$33:$C$332,0)),\"\")","v":""}]
[10,{"$f":"INDEX(DRAFTS!$B$4:$B$27,$A26)","v":""},4,{"$f":"IFERROR(INDEX(DRAFTS!$B$33:$B$332,MATCH(C26,DRAFTS!$C$33:$C$332,0)),\"\")","v":""},7,{"$f":"IFERROR(INDEX(DRAFTS!$B$33:$B$332,MATCH(E26,DRAFTS!$C$33:$C$332,0)),\"\")","v":""},8,{"$f":"IFERROR(INDEX(DRAFTS!$B$33:$B$332,MATCH(G26,DRAFTS!$C$33:$C$332,0)),\"\")","v":""}]
[11,{"$f":"INDEX(DRAFTS!$B$4:$B$27,$A27)","v":""},4,{"$f":"IFERROR(INDEX(DRAFTS!$B$33:$B$332,MATCH(C27,DRAFTS!$C$33:$C$332,0)),\"\")","v":""},7,{"$f":"IFERROR(INDEX(DRAFTS!$B$33:$B$332,MATCH(E27,DRAFTS!$C$33:$C$332,0)),\"\")","v":""},8,{"$f":"IFERROR(INDEX(DRAFTS!$B$33:$B$332,MATCH(G27,DRAFTS!$C$33:$C$332,0)),\"\")","v":""}]
[12,{"$f":"INDEX(DRAFTS!$B$4:$B$27,$A28)","v":""},4,{"$f":"IFERROR(INDEX(DRAFTS!$B$33:$B$332,MATCH(C28,DRAFTS!$C$33:$C$332,0)),\"\")","v":""},7,{"$f":"IFERROR(INDEX(DRAFTS!$B$33:$B$332,MATCH(E28,DRAFTS!$C$33:$C$332,0)),\"\")","v":""},8,{"$f":"IFERROR(INDEX(DRAFTS!$B$33:$B$332,MATCH(G28,DRAFTS!$C$33:$C$332,0)),\"\")","v":""}]
[13,{"$f":"INDEX(DRAFTS!$B$4:$B$27,$A29)","v":""},4,{"$f":"IFERROR(INDEX(DRAFTS!$B$33:$B$332,MATCH(C29,DRAFTS!$C$33:$C$332,0)),\"\")","v":""},7,{"$f":"IFERROR(INDEX(DRAFTS!$B$33:$B$332,MATCH(E29,DRAFTS!$C$33:$C$332,0)),\"\")","v":""},8,{"$f":"IFERROR(INDEX(DRAFTS!$B$33:$B$332,MATCH(G29,DRAFTS!$C$33:$C$332,0)),\"\")","v":""}]
[14,{"$f":"INDEX(DRAFTS!$B$4:$B$27,$A30)","v":""},4,{"$f":"IFERROR(INDEX(DRAFTS!$B$33:$B$332,MATCH(C30,DRAFTS!$C$33:$C$332,0)),\"\")","v":""},7,{"$f":"IFERROR(INDEX(DRAFTS!$B$33:$B$332,MATCH(E30,DRAFTS!$C$33:$C$332,0)),\"\")","v":""},8,{"$f":"IFERROR(INDEX(DRAFTS!$B$33:$B$332,MATCH(G30,DRAFTS!$C$33:$C$332,0)),\"\")","v":""}]
[15,{"$f":"INDEX(DRAFTS!$B$4:$B$27,$A31)","v":""},4,{"$f":"IFERROR(INDEX(DRAFTS!$B$33:$B$332,MATCH(C31,DRAFTS!$C$33:$C$332,0)),\"\")","v":""},7,{"$f":"IFERROR(INDEX(DRAFTS!$B$33:$B$332,MATCH(E31,DRAFTS!$C$33:$C$332,0)),\"\")","v":""},8,{"$f":"IFERROR(INDEX(DRAFTS!$B$33:$B$332,MATCH(G31,DRAFTS!$C$33:$C$332,0)),\"\")","v":""}]
[16,{"$f":"INDEX(DRAFTS!$B$4:$B$27,$A32)","v":""},null,"<>",null,"<>",null,"<>"]
[17,{"$f":"INDEX(DRAFTS!$B$4:$B$27,$A33)","v":""},{"$f":"C5","v":1},{"$f":"IFERROR(INDEX(DRAFTS!$B$33:$B$332,MATCH(C33,DRAFTS!$C$33:$C$332,0)),\"\")","v":""},{"$f":"E5","v":1},{"$f":"IFERROR(INDEX(DRAFTS!$B$33:$B$332,MATCH(E33,DRAFTS!$C$33:$C$332,0)),\"\")","v":""},{"$f":"G5","v":5},{"$f":"IFERROR(INDEX(DRAFTS!$B$33:$B$332,MATCH(G33,DRAFTS!$C$33:$C$332,0)),\"\")","v":""}]
[18,{"$f":"INDEX(DRAFTS!$B$4:$B$27,$A34)","v":""},3,{"$f":"IFERROR(INDEX(DRAFTS!$B$33:$B$332,MATCH(C34,DRAFTS!$C$33:$C$332,0)),\"\")","v":""},2,{"$f":"IFERROR(INDEX(DRAFTS!$B$33:$B$332,MATCH(E34,DRAFTS!$C$33:$C$332,0)),\"\")","v":""},7,{"$f":"IFERROR(INDEX(DRAFTS!$B$33:$B$332,MATCH(G34,DRAFTS!$C$33:$C$332,0)),\"\")","v":""}]
[19,{"$f":"INDEX(DRAFTS!$B$4:$B$27,$A35)","v":""},3,{"$f":"IFERROR(INDEX(DRAFTS!$B$33:$B$332,MATCH(C35,DRAFTS!$C$33:$C$332,0)),\"\")","v":""},2,{"$f":"IFERROR(INDEX(DRAFTS!$B$33:$B$332,MATCH(E35,DRAFTS!$C$33:$C$332,0)),\"\")","v":""},7,{"$f":"IFERROR(INDEX(DRAFTS!$B$33:$B$332,MATCH(G35,DRAFTS!$C$33:$C$332,0)),\"\")","v":""}]
[20,{"$f":"INDEX(DRAFTS!$B$4:$B$27,$A36)","v":""},3,{"$f":"IFERROR(INDEX(DRAFTS!$B$33:$B$332,MATCH(C36,DRAFTS!$C$33:$C$332,0)),\"\")","v":""},2,{"$f":"IFERROR(INDEX(DRAFTS!$B$33:$B$332,MATCH(E36,DRAFTS!$C$33:$C$332,0)),\"\")","v":""},7,{"$f":"IFERROR(INDEX(DRAFTS!$B$33:$B$332,MATCH(G36,DRAFTS!$C$33:$C$332,0)),\"\")","v":""}]
[21,{"$f":"INDEX(DRAFTS!$B$4:$B$27,$A37)","v":""},3,{"$f":"IFERROR(INDEX(DRAFTS!$B$33:$B$332,MATCH(C37,DRAFTS!$C$33:$C$332,0)),\"\")","v":""},2,{"$f":"IFERROR(INDEX(DRAFTS!$B$33:$B$332,MATCH(E37,DRAFTS!$C$33:$C$332,0)),\"\")","v":""},7,{"$f":"IFERROR(INDEX(DRAFTS!$B$33:$B$332,MATCH(G37,DRAFTS!$C$33:$C$332,0)),\"\")","v":""}]
[22,{"$f":"INDEX(DRAFTS!$B$4:$B$27,$A38)","v":""},3,{"$f":"IFERROR(INDEX(DRAFTS!$B$33:$B$332,MATCH(C38,DRAFTS!$C$33:$C$332,0)),\"\")","v":""},2,{"$f":"IFERROR(INDEX(DRAFTS!$B$33:$B$332,MATCH(E38,DRAFTS!$C$33:$C$332,0)),\"\")","v":""},7,{"$f":"IFERROR(INDEX(DRAFTS!$B$33:$B$332,MATCH(G38,DRAFTS!$C$33:$C$332,0)),\"\")","v":""}]
[23,{"$f":"INDEX(DRAFTS!$B$4:$B$27,$A39)","v":""},3,{"$f":"IFERROR(INDEX(DRAFTS!$B$33:$B$332,MATCH(C39,DRAFTS!$C$33:$C$332,0)),\"\")","v":""},2,{"$f":"IFERROR(INDEX(DRAFTS!$B$33:$B$332,MATCH(E39,DRAFTS!$C$33:$C$332,0)),\"\")","v":""},7,{"$f":"IFERROR(INDEX(DRAFTS!$B$33:$B$332,MATCH(G39,DRAFTS!$C$33:$C$332,0)),\"\")","v":""}]
[24,{"$f":"INDEX(DRAFTS!$B$4:$B$27,$A40)","v":""},3,{"$f":"IFERROR(INDEX(DRAFTS!$B$33:$B$332,MATCH(C40,DRAFTS!$C$33:$C$332,0)),\"\")","v":""},2,{"$f":"IFERROR(INDEX(DRAFTS!$B$33:$B$332,MATCH(E40,DRAFTS!$C$33:$C$332,0)),\"\")","v":""},7,{"$f":"IFERROR(INDEX(DRAFTS!$B$33:$B$332,MATCH(G40,DRAFTS!$C$33:$C$332,0)),\"\")","v":""}]